BEGIN:VCALENDAR
VERSION:2.0
PRODID:-//ExpressionEngine Easy iCalendar plugin//NONSGML v1.1.1//EN
BEGIN:VEVENT
UID:event
LOCATION:The Italian Academy for Advanced Studies
DTSTAMP:20210221T33100Z
DTSTART;TZID=America/New_York:20141021T180000
DTEND;TZID=America/New_York:
SUMMARY:Film Screening: Knowledge is the Beginning: Barenboim\, Said\,
  and Young Middle Eastern Musicians
DESCRIPTION:In 1999\, the Israeli Jewish conductor and pianist Daniel Bar
 enboim and the Palestinian literary theorist Edward Said fou
 nded the West-Eastern Divan as a workshop for Israeli\, Pales
 tinian and other Arab musicians. “With his documentary por
 trait "Knowledge is the Beginning\," filmmaker Paul Smaczny c
 hronicles the pair's awe-inspiring accomplishments\,” write
 s Nathan Southern in The New York Times.
END:VEVENT
END:VCALENDAR