BEGIN:VCALENDAR
VERSION:2.0
PRODID:-//ExpressionEngine Easy iCalendar plugin//NONSGML v1.1.1//EN
BEGIN:VEVENT
UID:event
LOCATION:The Heyman Center\, Second Floor Common Room
DTSTAMP:20210221T33300Z
DTSTART;TZID=America/New_York:20141117T120000
DTEND;TZID=America/New_York:
SUMMARY:On Method: Introducing Paper Machines
DESCRIPTION:How do you summarize millions of books with a single tool? T
 he question is relevant to literary scholars\, but especially
  to historians of political institutions and the "official m
 ind." Paper Machines is a toolkit that works with minimal co
 de on the texts that historians and other scholars are alrea
 dy using\, visualizing them as their subjects change over tim
 e and space.
END:VEVENT
END:VCALENDAR