BEGIN:VCALENDAR
VERSION:2.0
PRODID:-//ExpressionEngine Easy iCalendar plugin//NONSGML v1.1.1//EN
BEGIN:VEVENT
UID:event
LOCATION:Miller Theatre
DTSTAMP:20210221T32700Z
DTSTART;TZID=America/New_York:20150313T193000
DTEND;TZID=America/New_York:
SUMMARY:Art Spiegelman and Phillip Johnston: Wordless!
DESCRIPTION:In his Pulitzer prize-winning masterpiece\, Maus—a moving f
 ather-son memoir about the Holocaust drawn with cats and mic
 e—Art Spiegelman changed the definition of comics forever.
  In "Wordless!" --  a new and stimulating hybrid of slides\,
  talk\, and musical performance -- he probes further into the
  nature and possibilities of his medium. Spiegelman\, noted 
 as a historian and theorist of comics as well as an artist\, 
 collaborates with Phillip Johnston\, the critically acclaimed
  jazz composer who wrote all-new scores performed live with 
 his sextet. \n\n 
END:VEVENT
END:VCALENDAR