BEGIN:VCALENDAR
VERSION:2.0
PRODID:-//ExpressionEngine Easy iCalendar plugin//NONSGML v1.1.1//EN
BEGIN:VEVENT
UID:event
LOCATION:The Heyman Center\, Second Floor Common Room
DTSTAMP:20210221T33700Z
DTSTART;TZID=America/New_York:20141028T181500
DTEND;TZID=America/New_York:
SUMMARY:Is Health a Human Right?: The European Perspective
DESCRIPTION:In this talk\, Panayotis Yatagantzidis will present tentative
  definitions of the concept of human rights as delineated in
  different schools of thought and will define a constitution
 al cartography of the right to health in nations-members of 
 the European Union.
END:VEVENT
END:VCALENDAR