BEGIN:VCALENDAR
VERSION:2.0
PRODID:-//ExpressionEngine Easy iCalendar plugin//NONSGML v1.1.1//EN
BEGIN:VEVENT
UID:event
LOCATION:\, East Gallery\, Buell Hall (Maison Francaise)
DTSTAMP:20210221T33100Z
DTSTART;TZID=America/New_York:20141107T150000
DTEND;TZID=America/New_York:20141107T170000
SUMMARY:Michel Foucault: The Late Lectures
DESCRIPTION:In his late Collège de France lectures\, Michel Foucault op
 ened up new paths for research\, what he so often referred to
  as "des pistes de recherche\," many of which have only come
  to light now as a result of the recent publication of the l
 ectures.
END:VEVENT
END:VCALENDAR