BEGIN:VCALENDAR
VERSION:2.0
PRODID:-//ExpressionEngine Easy iCalendar plugin//NONSGML v1.1.1//EN
BEGIN:VEVENT
UID:event
LOCATION:Room 501\, Dodge Hall
DTSTAMP:20210221T33200Z
DTSTART;TZID=America/New_York:20150128T190000
DTEND;TZID=America/New_York:
SUMMARY:The Nonfiction Dialogues: Wayne Koestenbaum
DESCRIPTION:The Writing Program at Columbia School of the Arts and the H
 eyman Center for the Humanities present a talk with poet\, no
 velist\, and cultural critic Wayne Koestenbaum. The talk is p
 art of the Nonfiction Dialogue Series organized by the Schoo
 l of the Arts and The Writing Lives Series organized by the 
 Heyman Center.
END:VEVENT
END:VCALENDAR