BEGIN:VCALENDAR
VERSION:2.0
PRODID:-//ExpressionEngine Easy iCalendar plugin//NONSGML v1.1.1//EN
BEGIN:VEVENT
UID:event
LOCATION:Room 501\, Dodge Hall
DTSTAMP:20210221T33700Z
DTSTART;TZID=America/New_York:20150204T190000
DTEND;TZID=America/New_York:
SUMMARY:Creative Writing Lecture Series: Michael Cunningham
DESCRIPTION:Author Michael Cunningham delivers a talk on his work and th
 e art of writing\, as part of The Writiting Program of the Sc
 hool of the Arts' Creative Writing Lecture Series and the He
 yman Center for the Humanities' Writing Lives Series. \n\n 
END:VEVENT
END:VCALENDAR