BEGIN:VCALENDAR
VERSION:2.0
PRODID:-//ExpressionEngine Easy iCalendar plugin//NONSGML v1.1.1//EN
BEGIN:VEVENT
UID:event
LOCATION:The Heyman Center\, Second Floor Common Room
DTSTAMP:20210221T33300Z
DTSTART;TZID=America/New_York:20150218T181500
DTEND;TZID=America/New_York:
SUMMARY:On Method: On Philology
DESCRIPTION:Philology and the reconstruction of texts has been a main hu
 manistic method since the purported end of the middle ages. 
 Today’s exchange will delve into the history of philology 
 and its basic methodological assumptions\, bringing to the fo
 re some of its colonial underpinnings\, and asking digital hu
 manists\, as part of the conversation\, about connections betw
 een DH and this core method in humanities research.
END:VEVENT
END:VCALENDAR