BEGIN:VCALENDAR
VERSION:2.0
PRODID:-//ExpressionEngine Easy iCalendar plugin//NONSGML v1.1.1//EN
BEGIN:VEVENT
UID:event
LOCATION:The Schapiro Center\, Davis Auditorium
DTSTAMP:20210221T33800Z
DTSTART;TZID=America/New_York:20150224T181500
DTEND;TZID=America/New_York:
SUMMARY:Justice Poetry: Readings and Discussion with Claudia Rankine
 \, Dawn Lundy Martin\, and Messiah
DESCRIPTION:An evening of justice poetry featuring Claudia Rankine\, awar
 d-winning poet and author of Citizen\, finalist for the 2014 
 National Book Award\; along with Dawn Lundy Martin\, award-win
 ning poet and activist\, and Messiah Ramkissoon\, poet\, emcee\,
  youth activist\, and three-time winner at The Apollo. Joinin
 g the dialogue is Columbia School of the Arts Professor Timo
 thy Donnelly\, award-winning poet and Poetry Editor of Boston
  Review.
END:VEVENT
END:VCALENDAR