BEGIN:VCALENDAR
VERSION:2.0
PRODID:-//ExpressionEngine Easy iCalendar plugin//NONSGML v1.1.1//EN
BEGIN:VEVENT
UID:event
LOCATION:Jerome Greene Hall (Law School)\, Room 106
DTSTAMP:20210221T33400Z
DTSTART;TZID=America/New_York:20150226T180000
DTEND;TZID=America/New_York:
SUMMARY:Film Screening and Discussion: “The Cooler Bandits”
DESCRIPTION:The Heyman Center for the Humanities and the Center for Just
 ice at Columbia present a film screening and discussion of t
 he documentary film "The Cooler Bandits."  Over twenty year
 s ago\, four men committed a series of restaurant robberies d
 uring which they locked the restaurant employees in the walk
 -in coolers\, gaining them the moniker "the Cooler Bandits." 
 Although no one was physically injured\, the group received c
 ollective prison sentences of up to 500 years. The screening
  will be followed by a panel discussion with the Director\, J
 ohn Lucas\, along with two of “the Cooler Bandits\,” Donov
 an Harris and Richard Roderick. Joining them will be the fil
 m’s producer and editor\, Sam and Jason Pollard\, respective
 ly. The discussion will be moderated by Columbia School of 
 the Arts Professor Jamal Joseph.
END:VEVENT
END:VCALENDAR