BEGIN:VCALENDAR
VERSION:2.0
PRODID:-//ExpressionEngine Easy iCalendar plugin//NONSGML v1.1.1//EN
BEGIN:VEVENT
UID:event
LOCATION:The Heyman Center\, Common Room
DTSTAMP:20210221T33800Z
DTSTART;TZID=America/New_York:20150206T181500
DTEND;TZID=America/New_York:
SUMMARY:Economics as a Discipline and Profession
DESCRIPTION:James Galbraith\, Lloyd M. Bentsen Jr. Chair in Government/Bu
 siness Relations and Professor of Government\, converses with
  Prahbat Patnaik\, one of India's most prominent economists a
 nd Professor Emeritus at the Centre for Economic Studies and
  Planning School of Social Sciences. Joseph Stiglitz\, Unive
 rsity Professor\, will chair the talk.
END:VEVENT
END:VCALENDAR