BEGIN:VCALENDAR
VERSION:2.0
PRODID:-//ExpressionEngine Easy iCalendar plugin//NONSGML v1.1.1//EN
BEGIN:VEVENT
UID:event
LOCATION:The Heyman Center\, Common Room
DTSTAMP:20210221T33700Z
DTSTART;TZID=America/New_York:20150408T181500
DTEND;TZID=America/New_York:
SUMMARY:On Method: The Longue Durée of Empiricism in the Humanities
 : Patterns versus Interpretations
DESCRIPTION:Rens Bod\, professor at University of Amsterdam\, sketches the
  longue durée of the pattern-seeking tradition in the human
 ities and compares it to the interpretative tradition. Bod a
 rgues that interpretations were not always in opposition to 
 pattern-seeking\, but were often constructed on the patterns 
 found. The common wisdom that the humanities are moving towa
 rds science when they search for patterns is mistaken. Inste
 ad\, the search for patterns has been a continuous line in th
 e humanities from Antiquity onwards.
END:VEVENT
END:VCALENDAR