BEGIN:VCALENDAR
VERSION:2.0
PRODID:-//ExpressionEngine Easy iCalendar plugin//NONSGML v1.1.1//EN
BEGIN:VEVENT
UID:event
LOCATION:Barnard Hall\, James Room
DTSTAMP:20210221T33000Z
DTSTART;TZID=America/New_York:20150226T150000
DTEND;TZID=America/New_York:20150226T203000
SUMMARY:John Berryman at 100: A Celebration
DESCRIPTION:The Poetry Society of America\, along with Columbia School of
  the Arts\, Barnard Women Poets\, and Heyman Center for the Hu
 manities\, host an evening of poetry in honor of John Berryma
 n\, 1914–1972.
END:VEVENT
END:VCALENDAR