BEGIN:VCALENDAR
VERSION:2.0
PRODID:-//ExpressionEngine Easy iCalendar plugin//NONSGML v1.1.1//EN
BEGIN:VEVENT
UID:event
LOCATION:\, Heyman Center\, Second Floor Common Room and The New School
  for Social Research\, Wolff Conference Room
DTSTAMP:20210221T33000Z
DTSTART;TZID=America/New_York:20150401T90000
DTEND;TZID=America/New_York:20150402T000000
SUMMARY:Fascisms Across Borders
DESCRIPTION:This conference looks at the constellation of concepts that 
 fascism concocts historically – populism\, nationalism\, Naz
 ism—and their renewal in neo-fascist movements and ideolog
 ies\, both in their specificity and their historical actualiz
 ations across the globe-- specifically in Europe and Latin A
 merica. The Conference will be held at Columbia on 3 April a
 nd The New School on 4 April.
END:VEVENT
END:VCALENDAR