BEGIN:VCALENDAR
VERSION:2.0
PRODID:-//ExpressionEngine Easy iCalendar plugin//NONSGML v1.1.1//EN
BEGIN:VEVENT
UID:event
LOCATION:The Heyman Center\, Common Room
DTSTAMP:20210221T32900Z
DTSTART;TZID=America/New_York:20151023T160000
DTEND;TZID=America/New_York:
SUMMARY:Hoarding: An Interdisciplinary Conversation
DESCRIPTION:The phenomenon known as “hoarding” has become quite prom
 inent in two separate disciplines lately. On the one hand\, a
 n efflorescence of literature in Psychiatry has sought metho
 ds to diagnose and treat individuals who suffer from “hoar
 ding disorder.” On the other hand\, economists and other po
 licy experts have been pondering various methods to reduce b
 ank hoarding and thereby revivify the lending that seized up
  during the 2008 financial crisis.
END:VEVENT
END:VCALENDAR