BEGIN:VCALENDAR
VERSION:2.0
PRODID:-//ExpressionEngine Easy iCalendar plugin//NONSGML v1.1.1//EN
BEGIN:VEVENT
UID:event
LOCATION:The Heyman Center\, Common Room
DTSTAMP:20210221T32900Z
DTSTART;TZID=America/New_York:20150506T181500
DTEND;TZID=America/New_York:
SUMMARY:On Method: What Was “Close Reading”?
DESCRIPTION:Since the 1940s\, invocations of "close reading" (however und
 erstood) have figured centrally in controversies over new me
 thodological developments in literary studies: e.g.\, the New
  Criticism\, structuralism\, New Historicism\, deconstruction\, 
 ideology critique\, and\, notably now\, the Digital Humanities.
END:VEVENT
END:VCALENDAR