BEGIN:VCALENDAR
VERSION:2.0
PRODID:-//ExpressionEngine Easy iCalendar plugin//NONSGML v1.1.1//EN
BEGIN:VEVENT
UID:event
LOCATION:\, Wood Auditorium\, Avery Hall (April 23) and Davis Auditoriu
 m\, Schapiro Center (April 24)
DTSTAMP:20210221T33400Z
DTSTART;TZID=America/New_York:20150423T90000
DTEND;TZID=America/New_York:20150424T000000
SUMMARY:Description Across the Disciplines
DESCRIPTION:Participants in "Description Across the Disciplines" will co
 nsider the relation between description and other modes of e
 ngaging with objects of analysis\, such as interpretation\, ev
 aluation\, argument\, and critique. For the full list of speak
 er paper titles and abstracts click here.
END:VEVENT
END:VCALENDAR