BEGIN:VCALENDAR
VERSION:2.0
PRODID:-//ExpressionEngine Easy iCalendar plugin//NONSGML v1.1.1//EN
BEGIN:VEVENT
UID:event
LOCATION:Barnard Hall\, 304 Held Lecture Hall
DTSTAMP:20210221T32600Z
DTSTART;TZID=America/New_York:20150409T181500
DTEND;TZID=America/New_York:
SUMMARY:Colm Tóibín and Roy Foster in Conversation
DESCRIPTION:Renowned author Colm Tóibín will be in conversation with R
 oy Foster\, Professor of Irish History\, about subjects addres
 sed in their upcoming works\, both set in Ireland.
END:VEVENT
END:VCALENDAR