BEGIN:VCALENDAR
VERSION:2.0
PRODID:-//ExpressionEngine Easy iCalendar plugin//NONSGML v1.1.1//EN
BEGIN:VEVENT
UID:event
LOCATION:\, The Teatro at The Italian Academy for Advanced Studies
DTSTAMP:20210221T32900Z
DTSTART;TZID=America/New_York:20150328T90000
DTEND;TZID=America/New_York:20150329T000000
SUMMARY:Stalking the Essay
DESCRIPTION:Stalking the Essay is a two-day conference devoted to all as
 pects of the form. This event\, organized by Phillip Lopate\,
  represents a unique collaboration between members of the Wr
 iting Program\, the Film Department\, the Visual Arts Departme
 nt and the Department of English and Comparative Literature.
  PLEASE NOTE: REGISTRATION FOR THIS CONFERENCE IS CLOSED.
END:VEVENT
END:VCALENDAR