BEGIN:VCALENDAR
VERSION:2.0
PRODID:-//ExpressionEngine Easy iCalendar plugin//NONSGML v1.1.1//EN
BEGIN:VEVENT
UID:event
LOCATION:Pulitzer Hall (formerly Journalism Hall)\, World Room
DTSTAMP:20210221T33000Z
DTSTART;TZID=America/New_York:20150325T181500
DTEND;TZID=America/New_York:
SUMMARY:Narratives of Earned Hope: Or the Ways Adversity Can Build C
 ompensatory Strengths
DESCRIPTION:Pulitzer Prize-winning journalist Ron Suskind tells stories 
 that bind his first bestseller\, A Hope in the Unseen\, to his
  latest one\, Life\, Animated\, a startling portrait of his son
 's 20-year battle with autism. The two books\, fifteen years 
 apart\, are tough-minded\, densely-reported works that accord 
 dignity to society's outcasts\, showing how they can rise to 
 meet their fullest promise. Mr. Suskind will describe how bo
 th books harnessed narrative to drive social change.
END:VEVENT
END:VCALENDAR