BEGIN:VCALENDAR
VERSION:2.0
PRODID:-//ExpressionEngine Easy iCalendar plugin//NONSGML v1.1.1//EN
BEGIN:VEVENT
UID:event
LOCATION:The Heyman Center\, Second Floor Common Room
DTSTAMP:20210221T33600Z
DTSTART;TZID=America/New_York:20141208T181500
DTEND;TZID=America/New_York:
SUMMARY:Ebola - Field Histories
DESCRIPTION:This panel discussion begins with Mauricio Ferri\, who spent 
 several weeks as a doctor in Kenema this summer\, discussing 
 his experiences of the impact of Ebola on the local society 
 and his reflections on the international response.
END:VEVENT
END:VCALENDAR