BEGIN:VCALENDAR
VERSION:2.0
PRODID:-//ExpressionEngine Easy iCalendar plugin//NONSGML v1.1.1//EN
BEGIN:VEVENT
UID:event
LOCATION:The Heyman Center\, Second Floor Common Room
DTSTAMP:20210221T32800Z
DTSTART;TZID=America/New_York:20150205T181500
DTEND;TZID=America/New_York:
SUMMARY:Music for Words: Bob Dylan
DESCRIPTION:Christopher Ricks\, William M. and Sara B. Warren Professor 
 of the Humanities at Boston University\, and Sean Wilentz\, Ge
 orge Henry Davis 1886 Professor of American History at Princ
 eton University\, will discuss The Lyrics: Since 1962\, the re
 cently publshed comprehensive collected lyrics of Bob Dylan.
  Ricks collaborated with Dylan to complete the publication o
 f the massive 960 page tome. 
END:VEVENT
END:VCALENDAR