BEGIN:VCALENDAR
VERSION:2.0
PRODID:-//ExpressionEngine Easy iCalendar plugin//NONSGML v1.1.1//EN
BEGIN:VEVENT
UID:event
LOCATION:Pulitzer Hall (formerly Journalism Hall)\, Room 301
DTSTAMP:20210221T33600Z
DTSTART;TZID=America/New_York:20150330T181500
DTEND;TZID=America/New_York:
SUMMARY:Marilynne Robinson in Conversation with Robert Hardies: A Re
 ading and Discussion
DESCRIPTION:The Heyman Center for the Humanities\, the Writing Program of
  the School of the Arts\, Public Books\, and the Institute for
  Religion\, Culture\, and Public Life present an evening with 
 Pulitzer-prize winning author Marilynne Robinson\, who will r
 ead from her work and be in discussion with Unitarian Minist
 er\, Robert Hardies.
END:VEVENT
END:VCALENDAR