BEGIN:VCALENDAR
VERSION:2.0
PRODID:-//ExpressionEngine Easy iCalendar plugin//NONSGML v1.1.1//EN
BEGIN:VEVENT
UID:event
LOCATION:East Gallery\, Buell Hall (Maison Francaise)
DTSTAMP:20210221T33800Z
DTSTART;TZID=America/New_York:20141215T180000
DTEND;TZID=America/New_York:20141215T193000
SUMMARY:The Fundamental Contradictions of the Contemporary World
DESCRIPTION:Eminent French philosopher Alain Badiou will deliver a publi
 c lecture on the topic of the fundamental contradictions of 
 the contemporary world.
END:VEVENT
END:VCALENDAR