BEGIN:VCALENDAR
VERSION:2.0
PRODID:-//ExpressionEngine Easy iCalendar plugin//NONSGML v1.1.1//EN
BEGIN:VEVENT
UID:event
LOCATION:Pulitzer Hall (formerly Journalism Hall)\, Room 301
DTSTAMP:20210221T33600Z
DTSTART;TZID=America/New_York:20150420T181500
DTEND;TZID=America/New_York:
SUMMARY:Artist at the Center: Maxine Hong Kingston
DESCRIPTION:Author Maxine Hong Kingston will read from her work and disc
 uss her writing as part of the Heyman Center for the Humanit
 ies Writing Lives Series and the Center for the Study of Eth
 nicity and Race's Artist at the Center Series.
END:VEVENT
END:VCALENDAR