BEGIN:VCALENDAR
VERSION:2.0
PRODID:-//ExpressionEngine Easy iCalendar plugin//NONSGML v1.1.1//EN
BEGIN:VEVENT
UID:event
LOCATION:Jerome Greene Hall (Law School)\, Jerome Greene Annex
DTSTAMP:20210221T33100Z
DTSTART;TZID=America/New_York:20150306T90000
DTEND;TZID=America/New_York:20150307T000000
SUMMARY:Political Concepts
DESCRIPTION:The Editorial Board of Political Concepts: A Critical Lexico
 n\, a joint project of The New School for Social Research\, Ne
 w York University\, Columbia University\, and Brown University
 \, welcomes you to our fifth annual Spring Conference\, which 
 is returning to Columbia University in March 2015. The proj
 ect is guided by one formal principle--the posing of a Socra
 tic question "what is x?"--and by one theoretical principle-
 -the concepts defined should be relevant to political though
 t and\, more broadly\, to thinking about the political. 
END:VEVENT
END:VCALENDAR