BEGIN:VCALENDAR
VERSION:2.0
PRODID:-//ExpressionEngine Easy iCalendar plugin//NONSGML v1.1.1//EN
BEGIN:VEVENT
UID:event
LOCATION:The Heyman Center\, Second Floor Common Room
DTSTAMP:20210221T32800Z
DTSTART;TZID=America/New_York:20150508T120000
DTEND;TZID=America/New_York:20150508T183000
SUMMARY:The Social\, Legal\, and Political Life of Money
DESCRIPTION:Money is a notoriously difficult phenomenon to grasp. Why it
  works\, how it works\, and where it works are elusive questio
 ns that scholars have wrestled with for ages. In this event\,
  we bring together the authors of three recent books on mone
 y and a set of respondents to stage a conversation about the
  social\, legal\, and political role and implications of money
 .
END:VEVENT
END:VCALENDAR