BEGIN:VCALENDAR
VERSION:2.0
PRODID:-//ExpressionEngine Easy iCalendar plugin//NONSGML v1.1.1//EN
BEGIN:VEVENT
UID:event
LOCATION:International Affairs Building\, Room 1512
DTSTAMP:20210221T32700Z
DTSTART;TZID=America/New_York:20150303T181500
DTEND;TZID=America/New_York:
SUMMARY:Your Language—My Ear: Russian and American Poets at Close 
 Quarters
DESCRIPTION:A bilingual reading in Russian and English of poetry\, with d
 iscussion to follow\, by four leading Russian poets from poin
 ts across the geography of the Russian-Speaking world\, inclu
 ding Shamshad Abdullaev (Fergana\, Uzbekistan)\, Keti Chukhrov
  (Moscow)\, Alexandra Petrova (Rome)\, and Alexander Skidan (S
 t. Petersburg).
END:VEVENT
END:VCALENDAR