BEGIN:VCALENDAR
VERSION:2.0
PRODID:-//ExpressionEngine Easy iCalendar plugin//NONSGML v1.1.1//EN
BEGIN:VEVENT
UID:event
LOCATION:The Heyman Center\, Second Floor Common Room
DTSTAMP:20210221T33300Z
DTSTART;TZID=America/New_York:20150211T181500
DTEND;TZID=America/New_York:
SUMMARY:Neuroscience and History: Psychoanalysis and Neuroscience
DESCRIPTION:This workshop event examines the historical relationship bet
 ween psychoanalysis and brain science. Rather than consideri
 ng that relationship as a narrative of Freudâ€™s transition 
 from neurology to metapsychology â€” a historical approach t
 hat can often be oriented towards fulfilling the demands of 
 contemporary research â€” the paper instead situates Freudâ€
 ™s neuropathology and metapsychology within a broader set of
  anxieties and problems faced by both neurologists and psych
 iatrists in nineteenth-century brain and behavioral medicine
 . Register for the Workshop at Eventbrite.
END:VEVENT
END:VCALENDAR