BEGIN:VCALENDAR
VERSION:2.0
PRODID:-//ExpressionEngine Easy iCalendar plugin//NONSGML v1.1.1//EN
BEGIN:VEVENT
UID:event
LOCATION:The Heyman Center\, Lobby and Second Floor Common Room\, and T
 he Schapiro Center\, Davis Auditorium
DTSTAMP:20210221T32700Z
DTSTART;TZID=America/New_York:20150504T90000
DTEND;TZID=America/New_York:20150505T000000
SUMMARY:The Society of Fellows in the Humanities Presents “Managin
 g Borders”
DESCRIPTION:While recent years have seen an opening up within anthropolo
 gy of the limits and potentialities of ethnographic descript
 ion\, with increasing use being made of photographic and film
 ic images in particular\, considerably less attention has bee
 n paid to the question of whether images\, broadly conceived\,
  might present not just a supplementary means of conveying e
 thnographic insights\, but a radically different way of imagi
 ning and arriving at them.  What would an imagistic – as 
 opposed to a more conventionally discursive or didactic – 
 anthropological mode of knowing necessitate?
END:VEVENT
END:VCALENDAR