BEGIN:VCALENDAR
VERSION:2.0
PRODID:-//ExpressionEngine Easy iCalendar plugin//NONSGML v1.1.1//EN
BEGIN:VEVENT
UID:event
LOCATION:\, Faculty House\, 4th Floor\; Room 1501\, International Affairs
  Building\; and Room 1201\, International Affairs Building
DTSTAMP:20210221T33500Z
DTSTART;TZID=America/New_York:20150205T120000
DTEND;TZID=America/New_York:20150207T000000
SUMMARY:The Congress of Vienna 1814-1815: Making Peace after Global 
 War
DESCRIPTION:Organized to mark the bicentenary of the Congress of Vienna\,
  this conference brings together scholars in history\, intern
 ational relations\, and political science to explore this  r
 emarkable occasion—the calling of a general peace conferen
 ce—to re-establish world order in the wake of revolutions\,
  the rise of new leading powers\, and wars with reverberation
 s in every part of the globe.
END:VEVENT
END:VCALENDAR