BEGIN:VCALENDAR
VERSION:2.0
PRODID:-//ExpressionEngine Easy iCalendar plugin//NONSGML v1.1.1//EN
BEGIN:VEVENT
UID:event
LOCATION:\, Austin Quigley Black Box Theater in Lerner Hall
DTSTAMP:20210221T33300Z
DTSTART;TZID=America/New_York:20150203T190000
DTEND;TZID=America/New_York:
SUMMARY:The Embodied Cognition Workshop: Dance and Physics
DESCRIPTION:The intersection between kinesthetic imagination and scienti
 fic ideas are explored in this presentation by Yale Universi
 ty professors Emily Coates (Dance) and Sarah Demers (Physics
 ). The presentation will include several outcomes of their c
 ollaborative venture\, including excerpts of “Incarnations:
  Sketches for a Longer Work\,” which Coates is currently de
 veloping for Danspace Project’s Platform 2015\, and a scree
 ning of their co-created short science-art film\, “Three Vi
 ews of the Higgs and Dance.” This event is at capacity. We
  thank you for your interest and hope to see you at other ev
 ents this spring. Please note\, an RSVP does not guarantee a
  seat.
END:VEVENT
END:VCALENDAR