BEGIN:VCALENDAR
VERSION:2.0
PRODID:-//ExpressionEngine Easy iCalendar plugin//NONSGML v1.1.1//EN
BEGIN:VEVENT
UID:event
LOCATION:The Heyman Center\, Second Floor Common Room
DTSTAMP:20210221T33800Z
DTSTART;TZID=America/New_York:20150407T181500
DTEND;TZID=America/New_York:
SUMMARY:States of Division: Borders and Boundary-Formation in the Co
 ld War and Beyond
DESCRIPTION:This panel brings together experts on historical and current
  border and conflict zones in Asia\, Europe and the Middle Ea
 st. The aim is to bring processes of bordering\, the areas in
  which borders come to be\, and the agencies\, practices\, and 
 populations involved in such developments to the center of d
 iscussion.
END:VEVENT
END:VCALENDAR