BEGIN:VCALENDAR
VERSION:2.0
PRODID:-//ExpressionEngine Easy iCalendar plugin//NONSGML v1.1.1//EN
BEGIN:VEVENT
UID:event
LOCATION:\, The Jewish Museum and 501 Schermerhorn Hall\, Columbia Univ
 ersity
DTSTAMP:20210221T32600Z
DTSTART;TZID=America/New_York:20150219T90000
DTEND;TZID=America/New_York:20150221T000000
SUMMARY:Ghosts of the Past: Nazi-Looted Art and Its Legacies
DESCRIPTION:An International Conference co-organized by Columbia Univers
 ity’s Department of Art History and Archaeology & Deutsche
 s Haus in collaboration with the Goethe-Institut New York\, a
 nd the Jewish Museum\, New York. Cosponsored with Columbia Un
 iversity's Middle East Institute\, the History Department\, an
 d the University Seminar on Cultural Memory. Funding provide
 d by Columbia University’s Institute of Israel and Jewish 
 Studies\, the Samuel H. Kress Foundation\, the Deutscher Akade
 mischer Austauschdienst (DAAD)\, and New German Critique. “
 Ghosts of the Past: Nazi-Looted Art and Its Legacies” conv
 enes an international group of art historians\, historians\, c
 urators\, and scholars in provenance research and the history
  of German art dealership to explore an unexamined chapter o
 f the legacies of the Third Reich.
END:VEVENT
END:VCALENDAR