BEGIN:VCALENDAR
VERSION:2.0
PRODID:-//ExpressionEngine Easy iCalendar plugin//NONSGML v1.1.1//EN
BEGIN:VEVENT
UID:event
LOCATION:The Heyman Center\, Second Floor Common Room
DTSTAMP:20210221T32600Z
DTSTART;TZID=America/New_York:20150226T121500
DTEND;TZID=America/New_York:
SUMMARY:“But the Past Is Passed”: Haiti\, Historical Memory\, and 
 New Narratives
DESCRIPTION:What is the stuff of history? Who writes it\, who is allowed 
 to speak in it - and in what language? Heyman Center Public 
 Humanities Fellow Mary Grace Albanese will speak on a nascen
 t oral history project that aims to gather\, publish\, and tra
 nslate Haitian and Haitian-American narratives. The talk wil
 l focus particularly on the role of oral history in a Kreyol
 -French-English linguistic context and\, more broadly\, on the
  challenge of translation to the historian.
END:VEVENT
END:VCALENDAR