BEGIN:VCALENDAR
VERSION:2.0
PRODID:-//ExpressionEngine Easy iCalendar plugin//NONSGML v1.1.1//EN
BEGIN:VEVENT
UID:event
LOCATION:Jerome Greene Hall (Law School)\, Room 104
DTSTAMP:20210221T32800Z
DTSTART;TZID=America/New_York:20150310T181500
DTEND;TZID=America/New_York:
SUMMARY:The Justice Forum: Race and Justice - Past\, Present and Futu
 re
DESCRIPTION:The Center for Justice at Columbia presents Race and Justice
 : Past\, Present and Future. This roundtable examines the his
 tory of race-based injustices in America\, how those practice
 s have informed the criminal justice system today\, and what 
 implications they have for the future. The roundtable featu
 res Dr. Khalil Gibran Muhammad\; historian\, author and media 
 commentator who is the Director of the Schomburg Center for 
 Research in Black Culture\; and Glenn E. Martin\, a national l
 eader and criminal justice reform advocate and founder of Ju
 stLeadershipUSA. They are joined by Columbia Associate Profe
 ssor of Psychology and Director of the Laboratory of Intergr
 oup Relations and the Social Mind\, Valerie Purdie-Vaughns\, a
 nd Human Rights at Home Campaign Director\, Thenjiwe McHarris
 . The roundtable is moderated by Columbia Dean of Social Sc
 ience and Professor of Sociology and Gender Studies\, Alondra
  Nelson.
END:VEVENT
END:VCALENDAR