BEGIN:VCALENDAR
VERSION:2.0
PRODID:-//ExpressionEngine Easy iCalendar plugin//NONSGML v1.1.1//EN
BEGIN:VEVENT
UID:event
LOCATION:The Heyman Center\, Second Floor Common Room
DTSTAMP:20210221T33700Z
DTSTART;TZID=America/New_York:20150513T181500
DTEND;TZID=America/New_York:
SUMMARY:War Neurosis and Medical Cinematography in Germany\, 1917-192
 3
DESCRIPTION:When the Dadaist Georg Grosz referred in his autobiography t
 o the “real or fake” Kriegszitterer (literally\, “war-t
 remblers”) that could be encountered on every street corne
 r in post-World War I Berlin\, he alluded to the problem of k
 nowledge that these figures posed for contemporaries. This t
 alk examines the efforts of German psychiatrists and neurolo
 gists to address this problem through the medium of cinemato
 graphy. Register for the Workshop at Eventbrite.
END:VEVENT
END:VCALENDAR