BEGIN:VCALENDAR
VERSION:2.0
PRODID:-//ExpressionEngine Easy iCalendar plugin//NONSGML v1.1.1//EN
BEGIN:VEVENT
UID:event
LOCATION:Pulitzer Hall (formerly Journalism Hall)\, World Room
DTSTAMP:20210221T33700Z
DTSTART;TZID=America/New_York:20150422T181500
DTEND;TZID=America/New_York:
SUMMARY:An Evening with Author Kate Southwood
DESCRIPTION:As part of the Writing Lives Series at the Heyman Center for
  the Humanities\, author Kate Southwood will discuss her writ
 ing and her debut novel Falling to Earth.
END:VEVENT
END:VCALENDAR