BEGIN:VCALENDAR
VERSION:2.0
PRODID:-//ExpressionEngine Easy iCalendar plugin//NONSGML v1.1.1//EN
BEGIN:VEVENT
UID:event
LOCATION:Barnard Hall\, Sulzberger Parlor
DTSTAMP:20210221T33800Z
DTSTART;TZID=America/New_York:20150225T190000
DTEND;TZID=America/New_York:
SUMMARY:Poets at Barnard: Claudia Rankine and Robert Hass
DESCRIPTION:Barnard College and The Heyman Center for the Humanities pre
 sent Poets at Barnard Winter Reading with Claudia Rankine an
 d Robert Hass\, reading and in discussion.
END:VEVENT
END:VCALENDAR