BEGIN:VCALENDAR
VERSION:2.0
PRODID:-//ExpressionEngine Easy iCalendar plugin//NONSGML v1.1.1//EN
BEGIN:VEVENT
UID:event
LOCATION:Butler Library\, Rooms 522 and 523
DTSTAMP:20210221T32900Z
DTSTART;TZID=America/New_York:20150626T200000
DTEND;TZID=America/New_York:20150627T000000
SUMMARY:Restaging the Harlem Renaissance: New Views on the Performin
 g Arts in Black Manhattan
DESCRIPTION:“Restaging the Harlem Renaissance: New Views on the Perfor
 ming Arts in Black Manhattan” is a two-day interdisciplina
 ry symposium at Columbia University on Friday\, June 25 and 
 Saturday\, June 27\, 2015. Morningside Opera\, Harlem Opera Th
 eater\, and The Harlem Chamber Players will collaborate on a 
 concert performance of the 1914 opera\, Voodoo\, by composer-l
 ibrettist H. Lawrence Freeman. On the occasion of this rare
  performance of a work by a major\, if nearly forgotten\, figu
 re\, we are convening a two-day interdisciplinary conference 
 on African-American performing arts to accompany an array of
  events related to the revival\, including a talkback with pe
 rformers\, and an exhibit of Freeman’s papers in Columbia
 s Rare Book and Manuscript Library.\n\n 
END:VEVENT
END:VCALENDAR