BEGIN:VCALENDAR
VERSION:2.0
PRODID:-//ExpressionEngine Easy iCalendar plugin//NONSGML v1.1.1//EN
BEGIN:VEVENT
UID:event
LOCATION:East Gallery\, Buell Hall (Maison Francaise)
DTSTAMP:20210221T32700Z
DTSTART;TZID=America/New_York:20150505T170000
DTEND;TZID=America/New_York:20150505T183000
SUMMARY:Digits & Treasuries: How to Address the Fiscal Challenges of
  the Digital Economy?
DESCRIPTION:The digital revolution has taken place. It has given rise to
  a digital economy that challenges our concept of value crea
 tion. Increasingly\, start-ups and global companies serving m
 illions of users are changing the rules and bringing radical
  transformation to all sectors of the economy: through their
  innovative business models\; though the abundant financing a
 ccessible to them\; through the special relationships that th
 ey forge with the users of these applications\; and through t
 he use that they make of the data derived from the users’ 
 activities.
END:VEVENT
END:VCALENDAR