BEGIN:VCALENDAR
VERSION:2.0
PRODID:-//ExpressionEngine Easy iCalendar plugin//NONSGML v1.1.1//EN
BEGIN:VEVENT
UID:event
LOCATION:The Heyman Center\, Second Floor Common Room
DTSTAMP:20210221T33100Z
DTSTART;TZID=America/New_York:20150417T90000
DTEND;TZID=America/New_York:20150418T170000
SUMMARY:history of data / data in history
DESCRIPTION:The workshop will bring together two communities: 1) histori
 ans of science and technology dealing with Big Data and its 
 many history predecessors\, and 2) scholars drawing upon many
  of the techniques of text mining\, social network analysis\, 
 and other analytical tools associated with Big Data. It will
  be one of the inaugural events of Columbia's new Center for
  Science and Society.
END:VEVENT
END:VCALENDAR