BEGIN:VCALENDAR
VERSION:2.0
PRODID:-//ExpressionEngine Easy iCalendar plugin//NONSGML v1.1.1//EN
BEGIN:VEVENT
UID:event
LOCATION:\, East Gallery\, Maison Francaise (Buell Hall)
DTSTAMP:20210221T33100Z
DTSTART;TZID=America/New_York:20150403T100000
DTEND;TZID=America/New_York:20150403T173000
SUMMARY:The Future of French and Francophone Studies: The “Francop
 hone” in Question
DESCRIPTION:In the second workshop of this series on The Future of Frenc
 h and Francophone Studies\, participants will explore with au
 dience participants some of the constitutive questions of th
 e field of Francophone Studies\, in relation both to teaching
  and to research.
END:VEVENT
END:VCALENDAR