BEGIN:VCALENDAR
VERSION:2.0
PRODID:-//ExpressionEngine Easy iCalendar plugin//NONSGML v1.1.1//EN
BEGIN:VEVENT
UID:event
LOCATION:\, Sulzberger Tower\, North Tower Room (Barnard College)
DTSTAMP:20210221T33200Z
DTSTART;TZID=America/New_York:20150409T90000
DTEND;TZID=America/New_York:20150409T170000
SUMMARY:Comparative Settler Colonialisms: A Workshop
DESCRIPTION:This all-day workshop will consist of three papers\, each of 
 which will take up the question of settler colonialism and/o
 r indigeneity from a different regional perspective:  Pales
 tine\, North America\, and the Pacific Islands. The workshop i
 s by invitation only. Please RSVP to palestine@columbia.edu.
END:VEVENT
END:VCALENDAR