BEGIN:VCALENDAR
VERSION:2.0
PRODID:-//ExpressionEngine Easy iCalendar plugin//NONSGML v1.1.1//EN
BEGIN:VEVENT
UID:event
LOCATION:Schermerhorn Hall\, Room 963\, Schermerhorn Extension
DTSTAMP:20210221T33500Z
DTSTART;TZID=America/New_York:20150408T161000
DTEND;TZID=America/New_York:
SUMMARY:On Exterminability: The Affective Culture of Settler-Colonia
 lism Today
DESCRIPTION:Ghassan Hage\, Future Generation Professor of Anthropology an
 d Social Theory at University of Melbourne\, will deliver a t
 alk entitled\, "On Exterminability: The Affective Culture of 
 Settler-Colonialism Today.”
END:VEVENT
END:VCALENDAR