BEGIN:VCALENDAR
VERSION:2.0
PRODID:-//ExpressionEngine Easy iCalendar plugin//NONSGML v1.1.1//EN
BEGIN:VEVENT
UID:event
LOCATION:International Affairs Building\, Room 1219
DTSTAMP:20210221T32700Z
DTSTART;TZID=America/New_York:20150409T161000
DTEND;TZID=America/New_York:
SUMMARY:Adapting to Modernity or Taming It? Catholicism’s Laboriou
 s Relationship with Liberalism
DESCRIPTION:"Adapting to Modernity or Taming It? Catholicism’s Laborio
 us Relationship with Liberalism" is a seminar examining the 
 ideological and political trajectory of Catholicism in conte
 mporary Europe.
END:VEVENT
END:VCALENDAR