BEGIN:VCALENDAR
VERSION:2.0
PRODID:-//ExpressionEngine Easy iCalendar plugin//NONSGML v1.1.1//EN
BEGIN:VEVENT
UID:event
LOCATION:The Schapiro Center\, Davis Auditorium
DTSTAMP:20210221T33700Z
DTSTART;TZID=America/New_York:20151113T181500
DTEND;TZID=America/New_York:
SUMMARY:CRY HAVOC: One-person Play
DESCRIPTION:Cry Havoc is a one-person play\, written and performed by Ste
 phan Wolfert and directed by Eric Tucker\, that unites vetera
 ns and non-veterans and explores the difficulties that our v
 eterans and their families face.\n\nAfter overcoming two year
 s of paralysis and six years in the Army\, while battling PT
 SD\, Stephan Wolfert met William Shakespeare on a train. Twe
 nty years later\, using Shakespeare’s timeless words\, acto
 r/veteran Stephan Wolfert rides that train again. This time
 \, leading the audience on an interactive journey through Sh
 akespeare & his veterans. 
END:VEVENT
END:VCALENDAR