BEGIN:VCALENDAR
VERSION:2.0
PRODID:-//ExpressionEngine Easy iCalendar plugin//NONSGML v1.1.1//EN
BEGIN:VEVENT
UID:event
LOCATION:\, Diana Center\, Event Oval\, Barnard College and SUNY\, Stony 
 Brook\, Manhattan Campus
DTSTAMP:20210221T33600Z
DTSTART;TZID=America/New_York:20150924T90000
DTEND;TZID=America/New_York:20150926T000000
SUMMARY:Policing the Crises: Stuart Hall and the Practice of Critiqu
 e
DESCRIPTION:The Jamaican-born Stuart Hall was the leading post-colonial 
 intellectual of Great Britain from the 1960s until his death
  in 2014 at 82. He was one of the founders\, along with Richa
 rd Hoggart\, of cultural studies\, pioneered in the mid-1960s 
 at the Birmingham Centre for Contemporary Cultural Studies.
END:VEVENT
END:VCALENDAR