BEGIN:VCALENDAR
VERSION:2.0
PRODID:-//ExpressionEngine Easy iCalendar plugin//NONSGML v1.1.1//EN
BEGIN:VEVENT
UID:event
LOCATION:\, Leroy Neiman Gallery and Buell Hall
DTSTAMP:20210221T33400Z
DTSTART;TZID=America/New_York:20150907T90000
DTEND;TZID=America/New_York:20150918T000000
SUMMARY:Women Mobilizing Memory: Collaboration and Co-Resistance
DESCRIPTION:"Women Mobilizing Memory: Collaboration and Co-Resistance" w
 ill focus on the strategies by which women artists\, scholars
 \, and activists have mobilized the memory of political and s
 ocial violence to promote social justice and progressive soc
 ial change. This five-day international workshop will presen
 t two days at Columbia University on September 8 and Septemb
 er 10.
END:VEVENT
END:VCALENDAR