BEGIN:VCALENDAR
VERSION:2.0
PRODID:-//ExpressionEngine Easy iCalendar plugin//NONSGML v1.1.1//EN
BEGIN:VEVENT
UID:event
LOCATION:\, Buell Hall\, Maison Francaise and Heyman Center in Common R
 oom\, Second Floor
DTSTAMP:20210221T33900Z
DTSTART;TZID=America/New_York:20150929T121500
DTEND;TZID=America/New_York:
SUMMARY:A Day of Talks with Philosopher Bernard Stiegler
DESCRIPTION:On 29 September 2015\, Columbia University will host one of t
 oday's leading thinkers: French philosopher and activist\, Be
 rnard Stiegler. Professor Stiegler will be delivering a publ
 ic lecture\, an invitation-only lecture\, and a by-application
  seminar.
END:VEVENT
END:VCALENDAR